BEGIN:VCALENDAR
VERSION:2.0
PRODID:-//V&auml;lming - ECPv6.15.20//NONSGML v1.0//EN
CALSCALE:GREGORIAN
METHOD:PUBLISH
X-WR-CALNAME:V&auml;lming
X-ORIGINAL-URL:https://valming.ee
X-WR-CALDESC:Events for V&auml;lming
REFRESH-INTERVAL;VALUE=DURATION:PT1H
X-Robots-Tag:noindex
X-PUBLISHED-TTL:PT1H
BEGIN:VTIMEZONE
TZID:UTC
BEGIN:STANDARD
TZOFFSETFROM:+0000
TZOFFSETTO:+0000
TZNAME:UTC
DTSTART:20240101T000000
END:STANDARD
END:VTIMEZONE
BEGIN:VEVENT
DTSTART;TZID=UTC:20260124T130000
DTEND;TZID=UTC:20260124T150000
DTSTAMP:20260419T130212
CREATED:20251106T170609Z
LAST-MODIFIED:20251106T170609Z
UID:115-1769259600-1769266800@valming.ee
SUMMARY:SUSHI  VALMISTAMINE
DESCRIPTION:Info täieneb
URL:https://valming.ee/event/sushi-valmistamine/
END:VEVENT
BEGIN:VEVENT
DTSTART;TZID=UTC:20251204T000000
DTEND;TZID=UTC:20251207T235959
DTSTAMP:20260419T130212
CREATED:20251029T162207Z
LAST-MODIFIED:20251029T162527Z
UID:105-1764806400-1765151999@valming.ee
SUMMARY:Jõulud Lustilises Labürindis
DESCRIPTION:JÕULUD  LUSTlLlSES  LABÜRlNDlS \n4-5. DETSEMBER  GRUPPlDELE \n6-7. DETSEMBER  PEREDELE     (iga täistund 10-16.00) \nAADRESSlL:  MÕlSA  TEE  23  LUSTlVERE \nERlNEVAD  LÕBUSAD  JA  LOOVAD  TEGEVUSED  LASTELE: \nMElSTERDAMlNE\, KÜPSETAMlNE\, RlSTSÕNA\,  LABÜRlNT\,                   ERlNEVAD  LOOMAD\, VÕlMALUSEL  SAANlSÕlT\,                                                      LÕKE  JA  KUUM  KAKAO                                                      \nNlNG  OOTAB  KA  JÕULUVANA \n  PlLETl  HlND  5.- \n  GRUPlLE  KÜSl  PAKKUMlST                                                lNFO  JA  REGlSTREERlMlNE 53422538 \n 
URL:https://valming.ee/event/joulud-lustilisesl-labyrindis/
LOCATION:Häärber\, Mõisa tee 23\, Lustivere\, Jõgevamaa\, 48032\, Estonia
ATTACH;FMTTYPE=image/png:https://valming.ee/wp-content/uploads/2025/10/Untitled.png
END:VEVENT
BEGIN:VEVENT
DTSTART;TZID=UTC:20251123T110000
DTEND;TZID=UTC:20251123T130000
DTSTAMP:20260419T130212
CREATED:20251106T165101Z
LAST-MODIFIED:20251106T165257Z
UID:112-1763895600-1763902800@valming.ee
SUMMARY:JÕULUKAUNISTUSTE  VALMISTAMINE
DESCRIPTION:Loome mõnusat jõuluhõngu ja -meeleolu ise seadete valmistamisega.\n\n\n\n\n\nKasutame looduslikke materjale – kuuse-\, kadaka- ja männioksi ning erinevaid dekoratiivseid vahendeid.\n\n\n\n\n\nEelnev kogemus pole vajalik\, siin saad oskusi ja võimalusi end loovalt väljendada.\n\n\n\n\n\nVahendid ja materjalid meie poolt.\n\n\n\n\n\nOotame Sind 23.novembril kell 11.00\n\n\n\n\n\nEelnev registreerimine vajalik\, kohtade arv piiratud\n\n\n\n\n\nHind 30€ /inimene/seade\n\n\n\n\n\nTöötuba juhendab kogenud seadete tegija kunsti- ja käsitööõpetaja Terje
URL:https://valming.ee/event/joulukaunistuste-valmistamine/
LOCATION:Häärber\, Mõisa tee 23\, Lustivere\, Jõgevamaa\, 48032\, Estonia
ATTACH;FMTTYPE=image/jpeg:https://valming.ee/wp-content/uploads/2025/11/TOOTUBA.jpg
END:VEVENT
END:VCALENDAR